Workbook

Sheet 원가계산서
A1: 원 가 계 산 서
A2: 2019년 안동학가산온천 청사 청소용역 산출내역서
A3: 비 목 구 분 | D3: 금 액 | E3: 구성비 | G3: 산 출 근 거
A4: 순 공 사 비 | B4: 재 료 비 | C4: 직접재료비
C5: 간접재료비
C6: 소 계 | D6: =SUM(D4:D5) -> 0
B7: 노 무 비 | C7: 직접노무비 | D7: =직접인건비산출표!H4 -> 23275188
C8: 퇴직충당금 | D8: ='퇴직금 산출'!H4 -> 1939599
C9: 소 계 | D9: =SUM(D7:D8) -> 25214787
B10: 복 리 후 생 비 | C10: 산재 보험료 | D10: =복리후생비산정!F6 -> 407316
C11: 국 민 연 금 | D11: =복리후생비산정!F7 -> 1047384
C12: 건 강 보 험 | D12: =복리후생비산정!F8 -> 751800
C13: 노인장기요양보험 | D13: =복리후생비산정!F9 -> 63984
C14: 고용 보험료 | D14: =복리후생비산정!F10 -> 209484
C15: 임금채권보장보험 | D15: =복리후생비산정!F11 -> 13968
C16: 소 계 | D16: =SUM(D10:D15) -> 2493936
A17: 일 반 관 리 비 | D17: =(D9+D16)*F17 -> 1385436.2 | F17: 0.05 | G17: (노무비+복리후생비)*5%
A18: 이 윤 | D18: =(D9+D16+D17)*F18 -> 2327532.7 | F18: 0.08 | G18: (노+복+일반관리비)*8%
A19: 합 계 | D19: =D6+D9+D16+D17+D18 -> 31421692
A20: 부 가 가 치 세 | D20: =D19*0.1 -> 3142169.2 | E20: 0.1 | G20: 총원가의 *10%
A21: 총 액 | D21: =ROUNDDOWN(SUM(D19:D20),-3) -> 34563000 | G21: 천원미만절사
A22: 도 급 액 | D22: =D21 -> 34563000

Sheet 직접인건비산출표
A1: 직접 인건비 산출 조서
A3: 구 분 | B3: 직종명 | C3: 근무형태 | D3: 작업인원 | E3: 일수 | F3: 임금/일 | G3: 월간단가금액 | H3: 년간 금액 | I3: 비 고
A4: 계 | G4: =SUM(G5:G5) -> 1939599 | H4: =SUM(H5:H5) -> 23275188
A5: 기본급 | B5: 단순노무종사원 | C5: 정상근무 | D5: 1 | E5: 27 | F5: 71837 | G5: =F5*E5 -> 1939599 | H5: =G5*12 -> 23275188
A7: 주) 월 기준 작업일수 산출표 : 27일(22일+4일+1일)
A8: 1. 근무시간은 월 22일 기준 40시간/주
A9: 2. 주휴일수 월 4일, 월차 연 12일 기준
A10: 3. 년 12개월 기준
A11: 4. 기본급은 공공부문 비정규직 고용개선 추진지침(2012.01.16 정부합동 발표)에 따른 중소기업중앙회에서
A12: 발표하는 제조부분 단순노무종사원 노임 71,837원으로 적용/시급(8,979원)을 적용

Sheet 퇴직금 산출
A1: 퇴직금 산출 조서
A3: 구 분 | B3: 직종명 | C3: 근무형태 | D3: 작업인원 | E3: 기본급 | F3: 산출식 | G3: 월간산출금액 | H3: 년간 금액 | I3: 비 고
A4: 계 | H4: =H5 -> 1939599
A5: 퇴직금 | B5: 단순노무종사원 | C5: 정상근무 | D5: 1 | E5: =직접인건비산출표!H4 -> 23275188 | F5: 0.083333333 | H5: =E5*F5 -> 1939599
A7: 주) 근로기준법 제34조 1항에 의거 기본급의 1/12로 계상

Sheet 복리후생비산정
A1: 노무비 기준액 조서
A3: 비 목 구 분 | B3: 산출기준액 | C3: 산출식 | D3: 월단가 | E3: 공수 | F3: 합 계 | G3: 비 고
A4: [복리후생비 산출내역서]
A5: 계 | F5: =SUM(F6:F11) -> 2493936
A6: 산재보험료 | B6: =직접인건비산출표!G4 -> 1939599 | C6: 17.5/1,000 | D6: =ROUNDUP(B6*1.75%,0) -> 33943 | E6: 12 | F6: =E6*D6 -> 407316 | G6: 산업재해보상보험법 제4조
A7: 국민연금 | B7: =B6 -> 1939599 | C7: 45/1,000 | D7: =ROUNDUP(B7*4.5%,0) -> 87282 | E7: 12 | F7: =E7*D7 -> 1047384 | G7: 국민연금법 제88조
A8: 건강보험 | B8: =B7 -> 1939599 | C8: 3.23/100 | D8: =ROUNDUP(B8*3.23%,0) -> 62650 | E8: 12 | F8: =E8*D8 -> 751800 | G8: 국민건강보험법 제69조,시행령 제44조
A9: 노인장기요양보험 | B9: =F8/12 -> 62650 | C9: 8.51/100 | D9: =ROUNDUP(B9*8.51%,0) -> 5332 | E9: 12 | F9: =E9*D9 -> 63984 | G9: 노인장기요양보험법 제9조,시행령 제4조
A10: 고용보험 | B10: =B8 -> 1939599 | C10: 9/1,000 | D10: =ROUNDUP(B10*0.9%,0) -> 17457 | E10: 12 | F10: =E10*D10 -> 209484 | G10: 고용보험법 제6조,산업재해보상보험료 시행령 제12조
A11: 임금채권보장보험 | B11: =B10 -> 1939599 | C11: 0.6/1,000 | D11: =ROUNDUP(B11*0.06%,0) -> 1164 | E11: 12 | F11: =E11*D11 -> 13968 | G11: 임금채권보장보험법 제9조

Sheet 기본급산정자료
